BEGIN:VCALENDAR
VERSION:2.0
PRODID:-// - ECPv6.15.20//NONSGML v1.0//EN
CALSCALE:GREGORIAN
METHOD:PUBLISH
X-ORIGINAL-URL:https://scenichillsbc.com
X-WR-CALDESC:Events for 
REFRESH-INTERVAL;VALUE=DURATION:PT1H
X-Robots-Tag:noindex
X-PUBLISHED-TTL:PT1H
BEGIN:VTIMEZONE
TZID:America/Chicago
BEGIN:DAYLIGHT
TZOFFSETFROM:-0600
TZOFFSETTO:-0500
TZNAME:CDT
DTSTART:20250309T080000
END:DAYLIGHT
BEGIN:STANDARD
TZOFFSETFROM:-0500
TZOFFSETTO:-0600
TZNAME:CST
DTSTART:20251102T070000
END:STANDARD
BEGIN:DAYLIGHT
TZOFFSETFROM:-0600
TZOFFSETTO:-0500
TZNAME:CDT
DTSTART:20260308T080000
END:DAYLIGHT
BEGIN:STANDARD
TZOFFSETFROM:-0500
TZOFFSETTO:-0600
TZNAME:CST
DTSTART:20261101T070000
END:STANDARD
BEGIN:DAYLIGHT
TZOFFSETFROM:-0600
TZOFFSETTO:-0500
TZNAME:CDT
DTSTART:20270314T080000
END:DAYLIGHT
BEGIN:STANDARD
TZOFFSETFROM:-0500
TZOFFSETTO:-0600
TZNAME:CST
DTSTART:20271107T070000
END:STANDARD
END:VTIMEZONE
BEGIN:VEVENT
DTSTART;TZID=America/Chicago:20260419T100000
DTEND;TZID=America/Chicago:20260419T123000
DTSTAMP:20260422T121926
CREATED:20260417T212338Z
LAST-MODIFIED:20260405T050919Z
UID:3958-1776592800-1776601800@scenichillsbc.com
SUMMARY:Family Conference
DESCRIPTION:Family Conference with Evangelist Daniel Knickerbocker. \nSunday 10am | 11am | 6pm
URL:https://scenichillsbc.com/event/family-conference-3/
LOCATION:Scenic Hills Baptist Church\, 8305 Mowinkle Drive \, Austin \, TX\, 78736\, United States
ORGANIZER;CN="Scenic Hills Baptist Church":MAILTO:pastorcox@scenichillsbc.com
END:VEVENT
BEGIN:VEVENT
DTSTART;TZID=America/Chicago:20260418T110000
DTEND;TZID=America/Chicago:20260418T133000
DTSTAMP:20260422T121926
CREATED:20260418T212318Z
LAST-MODIFIED:20260405T050717Z
UID:3956-1776510000-1776519000@scenichillsbc.com
SUMMARY:Family Conference
DESCRIPTION:Saturday at 11am. Family Conference with Evangelist Daniel Knickerbocker. \nLunch and childcare will be provided.
URL:https://scenichillsbc.com/event/family-conference-2/
LOCATION:Scenic Hills Baptist Church\, 8305 Mowinkle Drive \, Austin \, TX\, 78736\, United States
ORGANIZER;CN="Scenic Hills Baptist Church":MAILTO:pastorcox@scenichillsbc.com
END:VEVENT
BEGIN:VEVENT
DTSTART;TZID=America/Chicago:20260417T190000
DTEND;TZID=America/Chicago:20260417T203000
DTSTAMP:20260422T121926
CREATED:20260419T212251Z
LAST-MODIFIED:20260218T043229Z
UID:3954-1776452400-1776457800@scenichillsbc.com
SUMMARY:Family Conference
DESCRIPTION:Family Conference with Evangelist Daniel Knickerbocker
URL:https://scenichillsbc.com/event/family-conference/
LOCATION:Scenic Hills Baptist Church\, 8305 Mowinkle Drive \, Austin \, TX\, 78736\, United States
ORGANIZER;CN="Scenic Hills Baptist Church":MAILTO:pastorcox@scenichillsbc.com
END:VEVENT
BEGIN:VEVENT
DTSTART;TZID=America/Chicago:20260405T080000
DTEND;TZID=America/Chicago:20260405T130000
DTSTAMP:20260422T121926
CREATED:20260212T222143Z
LAST-MODIFIED:20260212T222143Z
UID:3952-1775376000-1775394000@scenichillsbc.com
SUMMARY:Easter Sunday- no evening service
DESCRIPTION:
URL:https://scenichillsbc.com/event/easter-sunday-no-evening-service/
LOCATION:Scenic Hills Baptist Church\, 8305 Mowinkle Drive \, Austin \, TX\, 78736\, United States
ORGANIZER;CN="Scenic Hills Baptist Church":MAILTO:pastorcox@scenichillsbc.com
END:VEVENT
BEGIN:VEVENT
DTSTART;TZID=America/Chicago:20260327T183000
DTEND;TZID=America/Chicago:20260327T210000
DTSTAMP:20260422T121926
CREATED:20260212T222036Z
LAST-MODIFIED:20260212T222036Z
UID:3950-1774636200-1774645200@scenichillsbc.com
SUMMARY:Teen Night Friday
DESCRIPTION:
URL:https://scenichillsbc.com/event/teen-night-friday-2/
LOCATION:Scenic Hills Baptist Church\, 8305 Mowinkle Drive \, Austin \, TX\, 78736\, United States
ORGANIZER;CN="Scenic Hills Baptist Church":MAILTO:pastorcox@scenichillsbc.com
END:VEVENT
BEGIN:VEVENT
DTSTART;TZID=America/Chicago:20260314T093000
DTEND;TZID=America/Chicago:20260314T120000
DTSTAMP:20260422T121926
CREATED:20260212T221855Z
LAST-MODIFIED:20260212T221855Z
UID:3944-1773480600-1773489600@scenichillsbc.com
SUMMARY:Church Wide Outreach
DESCRIPTION:
URL:https://scenichillsbc.com/event/church-wide-outreach/
LOCATION:Scenic Hills Baptist Church\, 8305 Mowinkle Drive \, Austin \, TX\, 78736\, United States
ORGANIZER;CN="Scenic Hills Baptist Church":MAILTO:pastorcox@scenichillsbc.com
END:VEVENT
BEGIN:VEVENT
DTSTART;TZID=America/Chicago:20260310T183000
DTEND;TZID=America/Chicago:20260310T203000
DTSTAMP:20260422T121926
CREATED:20260212T221928Z
LAST-MODIFIED:20260212T221928Z
UID:3946-1773167400-1773174600@scenichillsbc.com
SUMMARY:Ladies Bible Study
DESCRIPTION:
URL:https://scenichillsbc.com/event/ladies-bible-study-2/
LOCATION:Scenic Hills Baptist Church\, 8305 Mowinkle Drive \, Austin \, TX\, 78736\, United States
ORGANIZER;CN="Scenic Hills Baptist Church":MAILTO:pastorcox@scenichillsbc.com
END:VEVENT
BEGIN:VEVENT
DTSTART;TZID=America/Chicago:20260308T110000
DTEND;TZID=America/Chicago:20260308T120000
DTSTAMP:20260422T121926
CREATED:20260212T221754Z
LAST-MODIFIED:20260212T221807Z
UID:3941-1772967600-1772971200@scenichillsbc.com
SUMMARY:46th Anniversary Sunday-no evening service
DESCRIPTION:
URL:https://scenichillsbc.com/event/46th-anniversary-sunday/
LOCATION:Scenic Hills Baptist Church\, 8305 Mowinkle Drive \, Austin \, TX\, 78736\, United States
ORGANIZER;CN="Scenic Hills Baptist Church":MAILTO:pastorcox@scenichillsbc.com
END:VEVENT
BEGIN:VEVENT
DTSTART;TZID=America/Chicago:20260227T183000
DTEND;TZID=America/Chicago:20260227T210000
DTSTAMP:20260422T121926
CREATED:20260212T222002Z
LAST-MODIFIED:20260212T222002Z
UID:3948-1772217000-1772226000@scenichillsbc.com
SUMMARY:Teen Night Friday
DESCRIPTION:
URL:https://scenichillsbc.com/event/teen-night-friday/
LOCATION:Scenic Hills Baptist Church\, 8305 Mowinkle Drive \, Austin \, TX\, 78736\, United States
ORGANIZER;CN="Scenic Hills Baptist Church":MAILTO:pastorcox@scenichillsbc.com
END:VEVENT
BEGIN:VEVENT
DTSTART;TZID=America/Chicago:20260224T190000
DTEND;TZID=America/Chicago:20260224T200000
DTSTAMP:20260422T121926
CREATED:20260212T221609Z
LAST-MODIFIED:20260212T221609Z
UID:3937-1771959600-1771963200@scenichillsbc.com
SUMMARY:Men's Bible Study
DESCRIPTION:
URL:https://scenichillsbc.com/event/mens-bible-study-2/
LOCATION:Scenic Hills Baptist Church\, 8305 Mowinkle Drive \, Austin \, TX\, 78736\, United States
ORGANIZER;CN="Scenic Hills Baptist Church":MAILTO:pastorcox@scenichillsbc.com
END:VEVENT
BEGIN:VEVENT
DTSTART;TZID=America/Chicago:20260222T100000
DTEND;TZID=America/Chicago:20260222T143000
DTSTAMP:20260422T121926
CREATED:20260212T221658Z
LAST-MODIFIED:20260212T221658Z
UID:3939-1771754400-1771770600@scenichillsbc.com
SUMMARY:Double Service Sunday-no evening service today
DESCRIPTION:
URL:https://scenichillsbc.com/event/double-service-sunday-no-evening-service-today/
LOCATION:Scenic Hills Baptist Church\, 8305 Mowinkle Drive \, Austin \, TX\, 78736\, United States
ORGANIZER;CN="Scenic Hills Baptist Church":MAILTO:pastorcox@scenichillsbc.com
END:VEVENT
BEGIN:VEVENT
DTSTART;TZID=America/Chicago:20260214T180000
DTEND;TZID=America/Chicago:20260214T203000
DTSTAMP:20260422T121926
CREATED:20260212T221529Z
LAST-MODIFIED:20260212T221529Z
UID:3935-1771092000-1771101000@scenichillsbc.com
SUMMARY:Valentine's Banquet-Teen Camp Fundraiser
DESCRIPTION:
URL:https://scenichillsbc.com/event/valentines-banquet-teen-camp-fundraiser/
LOCATION:Scenic Hills Baptist Church\, 8305 Mowinkle Drive \, Austin \, TX\, 78736\, United States
ORGANIZER;CN="Scenic Hills Baptist Church":MAILTO:pastorcox@scenichillsbc.com
END:VEVENT
BEGIN:VEVENT
DTSTART;TZID=America/Chicago:20260210T183000
DTEND;TZID=America/Chicago:20260210T203000
DTSTAMP:20260422T121926
CREATED:20260127T234038Z
LAST-MODIFIED:20260127T234038Z
UID:3783-1770748200-1770755400@scenichillsbc.com
SUMMARY:Ladies' Bible Study
DESCRIPTION:Join us as we start a new book\, “Called”
URL:https://scenichillsbc.com/event/ladies-bible-study/
LOCATION:Scenic Hills Baptist Church\, 8305 Mowinkle Drive \, Austin \, TX\, 78736\, United States
ORGANIZER;CN="Scenic Hills Baptist Church":MAILTO:pastorcox@scenichillsbc.com
END:VEVENT
BEGIN:VEVENT
DTSTART;TZID=America/Chicago:20260127T000000
DTEND;TZID=America/Chicago:20260129T235959
DTSTAMP:20260422T121926
CREATED:20260116T093615Z
LAST-MODIFIED:20260116T094247Z
UID:3660-1769472000-1769731199@scenichillsbc.com
SUMMARY:Men’s Bible Study
DESCRIPTION:Tuesday January 27 from 7:00 PM to 8:00 PM\nat Scenic Hills Baptist Church- 8305 Mowinkle Drive Austin\, Texas 78736.
URL:https://scenichillsbc.com/event/mens-bible-study/
END:VEVENT
END:VCALENDAR